BEGIN:VCALENDAR
VERSION:2.0
PRODID:-//SiB.hr - ECPv6.15.20//NONSGML v1.0//EN
CALSCALE:GREGORIAN
METHOD:PUBLISH
X-WR-CALNAME:SiB.hr
X-ORIGINAL-URL:https://sib.net.hr
X-WR-CALDESC:Events for SiB.hr
REFRESH-INTERVAL;VALUE=DURATION:PT1H
X-Robots-Tag:noindex
X-PUBLISHED-TTL:PT1H
BEGIN:VTIMEZONE
TZID:Europe/Zagreb
BEGIN:DAYLIGHT
TZOFFSETFROM:+0100
TZOFFSETTO:+0200
TZNAME:CEST
DTSTART:20250330T010000
END:DAYLIGHT
BEGIN:STANDARD
TZOFFSETFROM:+0200
TZOFFSETTO:+0100
TZNAME:CET
DTSTART:20251026T010000
END:STANDARD
BEGIN:DAYLIGHT
TZOFFSETFROM:+0100
TZOFFSETTO:+0200
TZNAME:CEST
DTSTART:20260329T010000
END:DAYLIGHT
BEGIN:STANDARD
TZOFFSETFROM:+0200
TZOFFSETTO:+0100
TZNAME:CET
DTSTART:20261025T010000
END:STANDARD
BEGIN:DAYLIGHT
TZOFFSETFROM:+0100
TZOFFSETTO:+0200
TZNAME:CEST
DTSTART:20270328T010000
END:DAYLIGHT
BEGIN:STANDARD
TZOFFSETFROM:+0200
TZOFFSETTO:+0100
TZNAME:CET
DTSTART:20271031T010000
END:STANDARD
END:VTIMEZONE
BEGIN:VEVENT
DTSTART;TZID=Europe/Zagreb:20260225T183000
DTEND;TZID=Europe/Zagreb:20260625T183000
DTSTAMP:20260422T034255
CREATED:20260204T211739Z
LAST-MODIFIED:20260204T211740Z
UID:1264138-1772044200-1782412200@sib.net.hr
SUMMARY:Info centar za mlade Osijek: Grupni susreti "Razgovori koji pomažu"
DESCRIPTION:Regionalni info-centar za mlade Osijek poziva sve mlade osobe da se uključe u novi ciklus grupnih susreta “Razgovori koji pomažu” — besplatnu podršku mentalnom zdravlju namijenjenu mladima.Program pruža siguran i podržavajući prostor za razgovor o izazovima s kojima se mladi suočavaju u svakodnevnom životu — od stresa i pritisaka školskih obaveza do osjećaja preopterećenosti modernim načinom života. \n\n\n\nGrupne psihobrbljaonice vodi psihologinja i psihoterapeutkinja Mihaela Korman\, a održavat će se jednom mjesečno\, od veljače do lipnja 2026.\, zadnji tjedan u mjesecu u prostorijama Info-centra za mlade Osijek\, Ulica Kralja Zvonimira 15. Rok za prijavu je 18. veljače.  \n\n\n\n\n\n\n\nPrvi susret s temom “Previše svega” bit će održan 25. veljače 2026. s početkom u 18:30 sati\, a fokus će biti na suočavanju sa stresom\, preopterećenošću obvezama i pritiscima digitalnog doba.Sudjelovanje je besplatno\, a broj mjesta ograničen kako bi se osigurala kvalitetna podrška svima koji sudjeluju. Mladi se mogu uključiti i ako nisu u mogućnosti sudjelovati na svakom susretu. \n\n\n\nProgram je dio aktivnosti Regionalnog info-centra za mlade Osijek\, koji kontinuirano radi na informiranju\, osnaživanju i podršci mladih\, a provodi se u sklopu programa financiranog sredstvima nadležnih ministarstava. Prijave i dodatne informacije: putem online obrasca u pozivu dostupnom na web-stranici Info-centra. \n\n\n\n\n7.veljača\, 10:00 – 8.veljača\, 14:00Mjesto: Sportska dvorana JugSportska dvorana Jug: Junior NBA liga\n\n19.veljača\, 08:00 – 7.ožujak\, 08:00Mjesto: Društveni ateljeDruštveni Atelje: Radionica storyboarda “Bilježnica I”\n\n18.veljača\, 09:00 – 19.veljača\, 20:00Mjesto: Odjel za fiziku Sveučilišta J. J. StrossmayeraOdjel za fiziku u Osijeku: 20. obljetnica i Dani otvorenih vrata
URL:https://sib.net.hr/dogadjanja/1264138/info-centar-za-mlade-osijek-grupni-susreti-razgovori-koji-pomazu/
LOCATION:Info centar za mlade Osijek\, Kralja Zvonimira 15\, Osijek\, Hrvatska\, 31000
ATTACH;FMTTYPE=image/jpeg:https://cdn-sib.net.hr/wp-content/uploads/ee3268f9b2b44a8dfc7b0edd72314ac3.jpg
END:VEVENT
BEGIN:VEVENT
DTSTART;TZID=Europe/Zagreb:20260401T080000
DTEND;TZID=Europe/Zagreb:20260901T080000
DTSTAMP:20260422T034255
CREATED:20260213T232113Z
LAST-MODIFIED:20260213T232223Z
UID:1264822-1775030400-1788249600@sib.net.hr
SUMMARY:STEM Centar: Poziv u projekt "Djelujem lokalno za bolje globalno"
DESCRIPTION:STEM Centar poziva sve mlade od 15 do 29 godina s područja Općina Čepin da se uključe u projekt “Djelujem lokalno za bolje globalno“. Od travnja do rujna 2026. godine sudionicima se nudi prilika za organiziranje inicijativa\, akcija i manifestacija na području općine\, a organizatori žele čuti ideje mladih koji žele aktivno doprinositi svojoj zajednici. \n\n\n\nProjekt je namijenjen svima koje zanimaju inovativni načini očuvanja okoliša i ruralnih područja\, koji žele sudjelovati u kreativnim i zabavnim aktivnostima te se povezati s vršnjacima spremnima na pozitivne promjene. Sudionici će\, uz podršku organizatora\, zajednički osmišljavati\, pripremati i provoditi inicijative kroz koje mogu izraziti svoju kreativnost i vještine\, učiniti nešto korisno i održivo za zajednicu te podići svijest o važnosti malih koraka u borbi protiv klimatskih promjena i očuvanju okoliša. \n\n\n\n\n\n\n\nSve ideje povezane s temama održivosti\, zaštite okoliša\, klimatskih promjena\, recikliranja te sprječavanja bacanja hrane ili odjeće mogu se razvijati i provoditi uz organizacijsku podršku projekta. Sudionicima je osigurana pomoć u planiranju aktivnosti\, određivanju lokacije i termina održavanja\, promociji putem društvenih mreža i lokalnih portala te nabavi potrebnog materijala. \n\n\n\nZainteresirani se mogu prijaviti ispunjavanjem online obrasca i tako postati dio pozitivne promjene u svojoj zajednici. Projekt se provodi uz financijsku potporu Ministarstvo znanosti\, obrazovanja i mladih\, a realizira ga STEAM centar u partnerstvu s udrugom Rame uz rame i Općinom Čepin. \n\n\n\n\n12.veljača\, 08:00 – 25.veljača\, 08:00Mjesto: ESN OsijekErasmus studentska mreža Osijek: Regrutacija novih članova\n\n22.veljača\, 19:00Mjesto: Kino UraniaKino Urania: Monodrama “Seansa” Sandre Silađev\n\n14.veljača\, 18:00Mjesto: Dvorana ZrinjevacDvorana Zrinjevac: ŽRK Osijek – ŽRK Zamet
URL:https://sib.net.hr/dogadjanja/1264822/stem-centar-poziv-u-projekt-djelujem-lokalno-za-bolje-globalno/
LOCATION:STEM Centar\, Jankovačka 17\, Osijek\, 31000
ATTACH;FMTTYPE=image/jpeg:https://cdn-sib.net.hr/wp-content/uploads/PXL_080413_5970078.jpg
END:VEVENT
BEGIN:VEVENT
DTSTART;TZID=Europe/Zagreb:20260409T080000
DTEND;TZID=Europe/Zagreb:20260426T080000
DTSTAMP:20260422T034255
CREATED:20260412T071213Z
LAST-MODIFIED:20260412T071216Z
UID:1268855-1775721600-1777190400@sib.net.hr
SUMMARY:Bizovac: Dani Općine Bizovac 2026.
DESCRIPTION:Bizovac će i ove godine tijekom travnja biti središte raznovrsnih društvenih\, kulturnih i sportskih događanja u sklopu manifestacije “Dani Općine Bizovac 2026”. Raznolik program donosi aktivnosti za sve uzraste od najmlađih do najstarijih\, s naglaskom na zajedništvo\, tradiciju i aktivno sudjelovanje građana. \n\n\n\nProgram je započeo humanitarnim sportskim događajem povodom velikog jubileja 100. obljetnice BSK-a. Humanitarna utakmica igrala se 9. travnja. \n\n\n\nKulturni dio programa donosi izložbu “Moje vezeno jaje za Uskrs“\, otvorenu 27. ožujka u 19 sati u Galeriji “Antun Ullrich“ u Kuriji Norman. Izložba predstavlja kreativnost i tradicijske motive uoči uskrsnih blagdana. \n\n\n\n\n\n\n\nZa ljubitelje šaha\, 14. travnja u Edukativnom centru Bizovac organizira se šahovski turnir s početkom u 14 sati za djecu\, odnosno u 17 sati za odrasle. Sportski program nastavlja se 15. travnja utakmicom veterana BSK-a i selekcije Policijske uprave osječko-baranjske u Sportskom centru BSK-a s početkom u 17:30 sati. \n\n\n\nSvečani dio obilježavanja održat će se 16. travnja u 18 sati u Edukativnom centru Bizovac\, kada će se održati svečana sjednica Općinskog vijeća uz dodjelu zahvalnica zaslužnim stanovnicima. \n\n\n\nZa najmlađe i obitelji pripremljeni su brojni sadržaji. Dana 17. travnja u 17 sati\, na dječjem igralištu u Ulici K. A. Stepinca\, održat će se “Proljetne sportske igre”\, dok će 20. travnja djeca u Bizovcu i Brođancima moći uživati u kazališnoj predstavi “Baby Lasagna Mačke i spačke“. \n\n\n\nManifestacija će završiti u duhu glazbe i zajedništva koncertom za mlade “Bliže Bogu“\, koji će se održati 26. travnja u 19 sati u župnom dvorištu u Bizovcu\, uz nastup glazbenog sastava “Zanas“. \n\n\n\nOrganizatori pozivaju sve mještane i posjetitelje da se uključe u program te zajedno obilježe Dane Općine Bizovac\, slaveći zajedništvo\, tradiciju i aktivan život lokalne zajednice. \n\n\n\n\n\n\n\n\nbećar pričeErasmus\, ljubav i karijera: Neočekivani život Marka odveo u Dublin\n\noprati liceRanjeni Osijek na Rujevici želi pokazati bolje lice nego nego na Maksimiru\n\nstabla stara 9 godinaOsječkoj ulici vraćen izvorni sjaj sadnjom 70 stabala japanske šljive
URL:https://sib.net.hr/dogadjanja/1268855/bizovac-dani-opcine-bizovac-2026/
LOCATION:Bizovac\, Bizovac\, Bizovac\, 31222
ATTACH;FMTTYPE=image/png:https://cdn-sib.net.hr/wp-content/uploads/bizovac1.png
END:VEVENT
BEGIN:VEVENT
DTSTART;TZID=Europe/Zagreb:20260420T080000
DTEND;TZID=Europe/Zagreb:20260427T080000
DTSTAMP:20260422T034255
CREATED:20260420T210243Z
LAST-MODIFIED:20260420T210245Z
UID:1269814-1776672000-1777276800@sib.net.hr
SUMMARY:Automobili Škojo: Suzuki Moto Road Show 2026.
DESCRIPTION:U Osijeku se priprema Suzuki Moto Road Show 2026\, događaj koji će ljubiteljima motocikala pružiti priliku da isprobaju najnovije modele ovog japanskog proizvođača u stvarnim prometnim uvjetima. Organizaciju potpisuje moto tim tvrtke Automobili Škojo\, koji posljednjih dana intenzivno radi na pripremama kako bi sve bilo spremno za jedinstveno iskustvo na dva kotača. \n\n\n\nTestne vožnje održavat će se od 20. do 27. travnja na adresi Ulica borova 1 u Osijeku\, a interes je već velik s obzirom na to da se ovakve prilike rijetko pružaju. Upravo zato organizatori pozivaju sve zainteresirane da na vrijeme rezerviraju svoj termin. Prijava je pojednostavljena putem digitalnog obrasca dostupnog online\, gdje je u svega nekoliko klikova moguće osigurati mjesto za vožnju. \n\n\n\n\n\n\n\nNa raspolaganju će biti niz novih Suzukijevih modela\, uključujući GSX–8S\, GSX–8R\, GSX–8TT\, GSX-S1000GT\, GSX-S1000GX\, V-Strom DL 800 i DR-Z 4 SM. Riječ je o motociklima koji inače privlače pažnju zaljubljenika u vožnju kroz fotografije i video testove\, a sada ih imaju priliku i osobno isprobati te upoznati njihove performanse\, snagu i udobnost. \n\n\n\nOčekuje se da će ovaj događaj ponuditi vrhunsko motociklističko iskustvo svima koji vole adrenalin i vožnju na dva kotača. Nakon prijave\, svaki će sudionik biti kontaktiran kako bi mu se potvrdio termin\, stoga se preporučuje što ranija rezervacija zbog ograničenog broja mjesta. \n\n\n\n\nVeliki uspjehOsječko kazalište briljiralo u Splitu: Tri velike nagrade za jednu predstavu\n\nSve ili NištaĐakovčanin uplatio 2\,60 eura pa osvojio solidan iznos na lutriji\n\nDonesena odlukaOsječani ne moraju platiti nove račune Ukopa: Evo što to znači
URL:https://sib.net.hr/dogadjanja/1269814/automobili-skojo-suzuki-moto-road-show-2026/
LOCATION:Automobili Škojo\, Ulica borova 1\, Osijek\, 31000
ATTACH;FMTTYPE=image/jpeg:https://cdn-sib.net.hr/wp-content/uploads/FotoJet-1-9.jpg
END:VEVENT
BEGIN:VEVENT
DTSTART;TZID=Europe/Zagreb:20260422T170000
DTEND;TZID=Europe/Zagreb:20260422T190000
DTSTAMP:20260422T034255
CREATED:20260421T204536Z
LAST-MODIFIED:20260421T204537Z
UID:1269892-1776877200-1776884400@sib.net.hr
SUMMARY:Udruga PLANTaža: Radionica "Stojimo jedna uz drugu"
DESCRIPTION:Udruga PLANTaža najavljuje prvu edukativno-psihološku radionicu u sklopu projekta “Stojimo jedna uz drugu“\, namijenjenu ženama\, pod nazivom “Rani znakovi nasilnog ponašanja – prepoznaj crvene zastavice“. Radionica će se održati u srijedu\, 22. travnja\, od 17 do 19 sati u prostoru udruge PLANTaža u Vukovarskoj 3 u Osijeku. \n\n\n\nCilj radionice je osnažiti sudionice u prepoznavanju ranih obrazaca kontrolirajućeg i manipulativnog ponašanja u partnerskim odnosima\, jer pravovremeno prepoznavanje predstavlja ključan korak prema zaštiti i očuvanju osobne sigurnosti. \n\n\n\n\n\n\n\nU sklopu edukativnog ciklusa održat će se radionice pod nazivima Snaga samopoštovanja\, Prepoznavanje i izbjegavanje emocionalne ucjene i manipulacije\, Osnaživanje i izgradnja vlastite mreže podrške te Put prema zdravim odnosima. \n\n\n\nRadionice će voditi Ana Vila\, magistra psihologije\, specijalistica kliničke psihologije\, stalna sudska vještakinja za psihologiju i neurofeedback praktičarka\, te Ružica Roso\, magistra psihologije\, specijalistica sportske psihologije i neurofeedback praktičarka\, iz zajedničke privatne psihološke prakse Roso i Vila. \n\n\n\nSudjelovanje na radionici je u potpunosti besplatno uz obaveznu prethodnu prijavu putem prijavnog obrasca koji se nalazi na društvenim mrežama udruge PLANTaža\, a broj mjesta je ograničen. Pozivaju se sve zainteresirane da se pridruže i naprave važan korak prema sigurnijim i zdravijim odnosima. Projekt “Stojimo jedna uz drugu“ provodi se u okviru 24. javnog natječaja Ekumenske inicijative žena. \n\n\n\n\nMeđunarodni kup "Vukovar 2026"Veliki uspjeh mladih karatista: HUS se vratio u Osijek s medaljama\n\nTaekwondo klub OsijekOsječani na Prvenstvu Hrvatske: Petra Žaper do bronce u svom seniorskom debiju\n\nKarate klub EssekerMladi Osječani oduševili u Vukovaru i osvojili vrhunske rezultate
URL:https://sib.net.hr/dogadjanja/1269892/udruga-plantaza-radionica-stojimo-jedna-uz-drugu/
LOCATION:Udruga Plantaža\, Vukovarska 3\, Osijek\, Hrvatska\, 31000\, Croatia (Local Name: Hrvatska)
ATTACH;FMTTYPE=image/jpeg:https://cdn-sib.net.hr/wp-content/uploads/8208ffe7c6aff06244899969c7345598.jpg
END:VEVENT
BEGIN:VEVENT
DTSTART;TZID=Europe/Zagreb:20260422T170000
DTEND;TZID=Europe/Zagreb:20260422T190000
DTSTAMP:20260422T034255
CREATED:20260421T205756Z
LAST-MODIFIED:20260421T205757Z
UID:1269894-1776877200-1776884400@sib.net.hr
SUMMARY:Trgovačka škola Osijek: Dani otvorenih vrata
DESCRIPTION:Trgovačka i komercijalna škola “Davor Milas“ Osijek organizira Dan otvorenih vrata koji će se održati u srijedu\, 22. travnja 2026. godine\, u vremenu od 17 do 19 sati. \n\n\n\nOvaj događaj predstavlja izvrsnu priliku za buduće srednjoškolce i njihove roditelje da iz prve ruke dobiju sve informacije o obrazovnim programima\, smjerovima i izvannastavnim aktivnostima koje škola nudi. \n\n\n\n\n\n\n\nZa posjetitelje su pripremljene zanimljive radionice i prezentacije koje će na najbolji način približiti svakodnevni život i rad u školi. \n\n\n\n\nnema opasnostiPortanova pregledana\, dojava o bombi bila je lažna\n\nteška prometnaVatrogasci objavili fotografije prometne zbog koje je bila blokirana osječka obilaznica\n\n\n\n\n\nPrometna nesreća "zablokirala" prometNa južnoj obilaznici sudarili se automobil i kamion!
URL:https://sib.net.hr/dogadjanja/1269894/trgovacka-skola-osijek-dani-otvorenih-vrata/
LOCATION:Trgovačka škola\, Ivana Gundulića 38\, Osijek\, 31000
ATTACH;FMTTYPE=image/jpeg:https://cdn-sib.net.hr/wp-content/uploads/trgovacka-skola-osijek.jpg
END:VEVENT
BEGIN:VEVENT
DTSTART;TZID=Europe/Zagreb:20260422T193000
DTEND;TZID=Europe/Zagreb:20260422T193000
DTSTAMP:20260422T034255
CREATED:20260421T203143Z
LAST-MODIFIED:20260421T203144Z
UID:1269887-1776886200-1776886200@sib.net.hr
SUMMARY:Filozofski fakultet: Koncert gitarista Krešimira Bedeka
DESCRIPTION:Panona Muziko tra Edukado 2026 je višemjesečni glazbeno-edukativni ciklus (travanj–listopad 2026.) u gradovima i povijesnim prostorima Slavonije i Baranje. Program se tematski fokusira na barok i neobarok\, s naglaskom na edukaciju publike (osobito mladih)\, interpretaciju na povijesnim instrumentima i povezivanje umjetničke izvrsnosti s razvojem zajednice i kulturnog turizma.  \n\n\n\nCiklus uključuje koncerte\, majstorske radionice\, uvodna predavanja\, razgovore s publikom i suradnju s obrazovnim institucijama. Uključivanjem renomiranih umjetnika (npr. Bojan Čičić\, Lovro Pogorelić\, Terezija Cukrov\, Edin Karamazov\, Łukasz Kuropaczewski\, Krešimir Bedek\, Camerata Garestin\, Haas barokni ansambl) osigurava se visoka umjetnička razina i međunarodna vidljivost. \n\n\n\nU ovoj godini 2026. koncertni ciklus se fokusira na obljetnice vezane uz barokne majstore i glazbu kao i osobe koje su bili najveći interpreti glazbe toga stilskog razdoblja. \n\n\n\nNenad Šimunić/PR\n\n\n\nPrvi u nizu je koncert gitariste Krešimira Bedeka\, 22. travnja\, s početkom u 19.30 sati\, a održat će se u Svečanoj dvorani Filozofskog fakulteta u Osijeku.  \n\n\n\nBach kroz Richtera\, (1926–1981) – Ove godine obilježavamo stotu obljetnicu rođenja Karla Richtera\, dirigenta koji je zadužio generacije svojim nezaboravnim interpretacijama. \n\n\n\n300 godina od objave Vivaldijevih Četiriju godišnjih doba – Prije tristo godina Vivaldi je uveo prirodu na koncertnu pozornicu i glazbom oslikao proljeće\, ljeto\, jesen i zimu. Danas je njegov opus najprepoznatljivije barokno djelo. \n\n\n\nLouis Couperin i francuski clavecin – 400 godina od rođenja – Louis Couperin\, začetnik slavne pariške čembalističke škole\, ostavio je za sobom glazbu u kojoj se rafinirana elegancija i bogatstvo ukrasa stapaju u jedinstven zvuk francuskog baroka. U povodu 400. obljetnice njegova rođenja koncertom barokne oboe i čembala izvest će se djela ovog skladatelja. Koncertna izvedba otkrit će publici kako zvuči barokna Francuska – raskošna\, stilizirana\, a istodobno intimna. \n\n\n\n\n\n\n\nBendetto Marcello (1686. – 1739.). U 2026. godini obilježava se 340 godina rođenja ovoga skladatelja. Benedetto Marcello je u razdoblju od 1730. do 1738. živio i djelovao (također i skladao) u Puli kao provveditore (proveditur) u gradskoj upravi grada te ga bez ikakve zadrške smatramo autorom razvidno vezanim za Hrvatsku\, dakle dionikom i hrvatske kulturne baštine. \n\n\n\n\nMeđunarodni kup "Vukovar 2026"Veliki uspjeh mladih karatista: HUS se vratio u Osijek s medaljama\n\nTaekwondo klub OsijekOsječani na Prvenstvu Hrvatske: Petra Žaper do bronce u svom seniorskom debiju\n\nKarate klub EssekerMladi Osječani oduševili u Vukovaru i osvojili vrhunske rezultate
URL:https://sib.net.hr/dogadjanja/1269887/filozofski-fakultet-koncert-gitarista-kresimira-bedeka/
LOCATION:Filozofski fakultet Osijek\, Lorenza Jaegera 9\, Osijek\, 31000
ATTACH;FMTTYPE=image/jpeg:https://cdn-sib.net.hr/wp-content/uploads/DSC_1608-scaled-1.jpg
END:VEVENT
END:VCALENDAR